BEGIN:VCALENDAR
VERSION:2.0
PRODID:-//Divi Events Calendar - ECPv6.5.1//NONSGML v1.0//EN
CALSCALE:GREGORIAN
METHOD:PUBLISH
X-WR-CALNAME:Divi Events Calendar
X-ORIGINAL-URL:https://divieventscalendar.com
X-WR-CALDESC:Events for Divi Events Calendar
REFRESH-INTERVAL;VALUE=DURATION:PT1H
X-Robots-Tag:noindex
X-PUBLISHED-TTL:PT1H
BEGIN:VTIMEZONE
TZID:America/Halifax
BEGIN:DAYLIGHT
TZOFFSETFROM:-0400
TZOFFSETTO:-0300
TZNAME:ADT
DTSTART:20220313T060000
END:DAYLIGHT
BEGIN:STANDARD
TZOFFSETFROM:-0300
TZOFFSETTO:-0400
TZNAME:AST
DTSTART:20221106T050000
END:STANDARD
END:VTIMEZONE
BEGIN:VEVENT
DTSTART;TZID=America/Halifax:20221012T080000
DTEND;TZID=America/Halifax:20221012T170000
DTSTAMP:20240614T151443
CREATED:20221008T113904Z
LAST-MODIFIED:20221122T065755Z
UID:10462-1665561600-1665594000@divieventscalendar.com
SUMMARY:Kiki karoake night
DESCRIPTION:Sing and have on once a month event of Kiki bar karoaki night.
URL:https://divieventscalendar.com/event/kiki-karoake-night/
LOCATION:Bamboo Fresh\, 655 Front St.\, Lahaina\, 96761\, United States
CATEGORIES:Local 1 Layout
ATTACH;FMTTYPE=image/png:https://divieventscalendar.com/wp-content/uploads/2022/10/pexels-matheus-bertelli-26085171.png
ORGANIZER;CN="Famous Amos":MAILTO:cookies@aol.com
END:VEVENT
END:VCALENDAR